BEGIN:VCALENDAR
VERSION:2.0
PRODID:-//sebbo.net//ical-generator//EN
BEGIN:VEVENT
UID:caec8fe6-921a-4442-8ec0-5b4ea9b0584c
SEQUENCE:0
DTSTAMP:20260422T145257Z
DTSTART;VALUE=DATE:20260602
DTEND;VALUE=DATE:20260603
X-MICROSOFT-CDO-ALLDAYEVENT:TRUE
X-MICROSOFT-MSNCALENDAR-ALLDAYEVENT:TRUE
SUMMARY:PICPAY - 1Q26 Earnings Release
DESCRIPTION:
END:VEVENT
END:VCALENDAR