BEGIN:VCALENDAR
VERSION:2.0
PRODID:-//sebbo.net//ical-generator//EN
BEGIN:VEVENT
UID:5bb577d5-ff0f-4597-b9f7-e01976ec42a5
SEQUENCE:0
DTSTAMP:20260424T152734Z
DTSTART;VALUE=DATE:20260511
DTEND;VALUE=DATE:20260512
X-MICROSOFT-CDO-ALLDAYEVENT:TRUE
X-MICROSOFT-MSNCALENDAR-ALLDAYEVENT:TRUE
SUMMARY:Telefônica Brasil S.A - 1Q26 Earnings Release
DESCRIPTION:
END:VEVENT
END:VCALENDAR