BEGIN:VCALENDAR
VERSION:2.0
PRODID:-//sebbo.net//ical-generator//EN
BEGIN:VEVENT
UID:0f91ebd7-ea04-44f8-9667-b9164cffe330
SEQUENCE:0
DTSTAMP:20260422T145230Z
DTSTART;VALUE=DATE:20260602
DTEND;VALUE=DATE:20260603
X-MICROSOFT-CDO-ALLDAYEVENT:TRUE
X-MICROSOFT-MSNCALENDAR-ALLDAYEVENT:TRUE
SUMMARY:PICPAY - 1Q26 Conference Call
DESCRIPTION:
END:VEVENT
END:VCALENDAR