BEGIN:VCALENDAR
VERSION:2.0
PRODID:-//sebbo.net//ical-generator//EN
BEGIN:VEVENT
UID:5c8fbb4e-e94b-40b9-98e2-7d763a551add
SEQUENCE:0
DTSTAMP:20260424T152744Z
DTSTART;VALUE=DATE:20260511
DTEND;VALUE=DATE:20260512
X-MICROSOFT-CDO-ALLDAYEVENT:TRUE
X-MICROSOFT-MSNCALENDAR-ALLDAYEVENT:TRUE
SUMMARY:Telefônica Brasil S.A - 1Q26 Results Conference Call
DESCRIPTION:
END:VEVENT
END:VCALENDAR